BEGIN:VCALENDAR
VERSION:2.0
PRODID:-//Drupal iCal API//EN
X-WR-CALNAME:Events items teaser
X-WR-TIMEZONE:America/Toronto
BEGIN:VTIMEZONE
TZID:America/Toronto
X-LIC-LOCATION:America/Toronto
BEGIN:DAYLIGHT
TZNAME:EDT
TZOFFSETFROM:-0500
TZOFFSETTO:-0400
DTSTART:20190310T070000
END:DAYLIGHT
BEGIN:STANDARD
TZNAME:EST
TZOFFSETFROM:-0400
TZOFFSETTO:-0500
DTSTART:20191103T060000
END:STANDARD
END:VTIMEZONE
BEGIN:VEVENT
UID:69ed640702914
DTSTART;TZID=America/Toronto:20191119T180300
SEQUENCE:0
TRANSP:TRANSPARENT
DTEND;TZID=America/Toronto:20191119T200300
URL:https://uwaterloo.ca/math/events/lgbtq-plus-plus-tech-leaders-panel
LOCATION:MC - Mathematics &amp; Computer Building 200 University Avenue West 3r
 d floor\, Comfy Lounge Waterloo ON N2L 3G1 Canada
SUMMARY:LGBTQ Plus Plus Tech Leaders Panel
CLASS:PUBLIC
DESCRIPTION:Want to hear and learn from amazing LGBTQ+ leaders in the tech\
 ncommunity? Join us on Tuesday\, November 19\, 2019. All identities and\nb
 ackgrounds are welcome to attend. \n\nAGENDA:\n\n6:30-7:30: Moderated disc
 ussion with panelists\n7:30-8:30: Socialize and meet the panelists
DTSTAMP:20260426T010159Z
END:VEVENT
END:VCALENDAR