BEGIN:VCALENDAR
VERSION:2.0
PRODID:-//Drupal iCal API//EN
X-WR-CALNAME:Events items teaser
X-WR-TIMEZONE:America/Toronto
BEGIN:VTIMEZONE
TZID:America/Toronto
X-LIC-LOCATION:America/Toronto
BEGIN:DAYLIGHT
TZNAME:EDT
TZOFFSETFROM:-0500
TZOFFSETTO:-0400
DTSTART:20200308T070000
END:DAYLIGHT
BEGIN:STANDARD
TZNAME:EST
TZOFFSETFROM:-0400
TZOFFSETTO:-0500
DTSTART:20191103T060000
END:STANDARD
END:VTIMEZONE
BEGIN:VEVENT
UID:69ed357e50752
DTSTART;TZID=America/Toronto:20200310T103000
SEQUENCE:0
TRANSP:TRANSPARENT
DTEND;TZID=America/Toronto:20200310T120000
URL:https://uwaterloo.ca/math/events/three-minute-thesis-3mt-math-faculty-h
 eat-0
LOCATION:DC - William G. Davis Computer Research Centre 200 University Aven
 ue West DC 1302 Waterloo ON N2L 3G1 Canada
SUMMARY:Three Minute Thesis (3MT) Math Faculty Heat
CLASS:PUBLIC
DESCRIPTION:[3 minute thesis]\n\nThe Three Minute Thesis (3MT) competition\
 n[https://uwaterloo.ca/graduate-studies-postdoctoral-affairs/three-minute-
 thesis]\nchallenges research-based graduate students to articulate the im
 pact\nand breadth of their research in a 3 minute presentation\, using jus
 t 1\nstatic power point slide.
DTSTAMP:20260425T214326Z
END:VEVENT
END:VCALENDAR