BEGIN:VCALENDAR
VERSION:2.0
PRODID:-//Drupal iCal API//EN
X-WR-CALNAME:Events items teaser
X-WR-TIMEZONE:America/Toronto
BEGIN:VTIMEZONE
TZID:America/Toronto
X-LIC-LOCATION:America/Toronto
BEGIN:DAYLIGHT
TZNAME:EDT
TZOFFSETFROM:-0500
TZOFFSETTO:-0400
DTSTART:20190310T070000
END:DAYLIGHT
BEGIN:STANDARD
TZNAME:EST
TZOFFSETFROM:-0400
TZOFFSETTO:-0500
DTSTART:20191103T060000
END:STANDARD
END:VTIMEZONE
BEGIN:VEVENT
UID:69ed39eeeb7cc
DTSTART;TZID=America/Toronto:20200212T120000
SEQUENCE:0
TRANSP:TRANSPARENT
DTEND;TZID=America/Toronto:20200212T130000
URL:https://uwaterloo.ca/math/events/fireside-chat-ian-mackinnon
LOCATION:DC - William G. Davis Computer Research Centre 200 University Aven
 ue West 1301 (Fishbowl) Waterloo ON N2L 3G1 Canada
SUMMARY:Fireside Chat with Ian MacKinnon
CLASS:PUBLIC
DESCRIPTION:[Ian MacKinnon] \nCo-founder and CTO of Later.com\, Ian MacKinn
 on (MMath '08 &amp; BMath\n'06)\, is coming to UWaterloo for an ASK ME ANYTHIN
 G fireside chat with\nstudents.
DTSTAMP:20260425T220222Z
END:VEVENT
END:VCALENDAR