BEGIN:VCALENDAR
VERSION:2.0
PRODID:-//Drupal iCal API//EN
X-WR-CALNAME:Events items teaser
X-WR-TIMEZONE:America/Toronto
BEGIN:VTIMEZONE
TZID:America/Toronto
X-LIC-LOCATION:America/Toronto
BEGIN:DAYLIGHT
TZNAME:EDT
TZOFFSETFROM:-0500
TZOFFSETTO:-0400
DTSTART:20190310T070000
END:DAYLIGHT
BEGIN:STANDARD
TZNAME:EST
TZOFFSETFROM:-0400
TZOFFSETTO:-0500
DTSTART:20191103T060000
END:STANDARD
END:VTIMEZONE
BEGIN:VEVENT
UID:69ed356eb9cae
DTSTART;TZID=America/Toronto:20200208T120000
SEQUENCE:0
TRANSP:TRANSPARENT
DTEND;TZID=America/Toronto:20200208T130000
URL:https://uwaterloo.ca/math/events/math-career-panel-0
LOCATION:DC - William G. Davis Computer Research Centre 200 University Aven
 ue West DC 1302 Waterloo ON N2L 3G1 Canada
SUMMARY:Math Career Panel
CLASS:PUBLIC
DESCRIPTION:[Math Career Panel Banner]\n\nWant to learn about the career jo
 urney of alumni who graduated from\nthe Faculty of Math?\n\nWant to hear s
 ome advice from our alumni who have been successful in\ntheir professional
  careers since graduation?\n\nIf you answered yes to either of these quest
 ions\, or you are just\ncurious\, please join us at our MATH CAREER PANEL
  on Saturday\,\nFebruary 8th for a networking opportunity.
DTSTAMP:20260425T214310Z
END:VEVENT
END:VCALENDAR