BEGIN:VCALENDAR
VERSION:2.0
PRODID:-//Drupal iCal API//EN
X-WR-CALNAME:Events items teaser
X-WR-TIMEZONE:America/Toronto
BEGIN:VTIMEZONE
TZID:America/Toronto
X-LIC-LOCATION:America/Toronto
BEGIN:DAYLIGHT
TZNAME:EDT
TZOFFSETFROM:-0500
TZOFFSETTO:-0400
DTSTART:20190310T070000
END:DAYLIGHT
BEGIN:STANDARD
TZNAME:EST
TZOFFSETFROM:-0400
TZOFFSETTO:-0500
DTSTART:20191103T060000
END:STANDARD
END:VTIMEZONE
BEGIN:VEVENT
UID:69ed3a05ec6f0
DTSTART;TZID=America/Toronto:20200228T083000
SEQUENCE:0
TRANSP:TRANSPARENT
DTEND;TZID=America/Toronto:20200228T173000
URL:https://uwaterloo.ca/math/events/privacy-infrastructures-policy
LOCATION:FED - Federation Hall 200 University Avenue West Waterloo ON N2L 3
 G1 Canada
SUMMARY:Privacy\, Infrastructures\, Policy
CLASS:PUBLIC
DESCRIPTION:[People under CCTV cameras]\n\nMedia\, government\, and industr
 y commonly frame Security and Privacy as\ndiametrically opposed: protectin
 g one requires sacrificing the other.
DTSTAMP:20260425T220245Z
END:VEVENT
END:VCALENDAR