BEGIN:VCALENDAR
VERSION:2.0
PRODID:-//Drupal iCal API//EN
X-WR-CALNAME:Events items teaser
X-WR-TIMEZONE:America/Toronto
BEGIN:VTIMEZONE
TZID:America/Toronto
X-LIC-LOCATION:America/Toronto
BEGIN:DAYLIGHT
TZNAME:EDT
TZOFFSETFROM:-0500
TZOFFSETTO:-0400
DTSTART:20200308T070000
END:DAYLIGHT
BEGIN:STANDARD
TZNAME:EST
TZOFFSETFROM:-0400
TZOFFSETTO:-0500
DTSTART:20191103T060000
END:STANDARD
END:VTIMEZONE
BEGIN:VEVENT
UID:69ed63e9e114e
DTSTART;TZID=America/Toronto:20200512T073000
SEQUENCE:0
TRANSP:TRANSPARENT
DTEND;TZID=America/Toronto:20200512T190000
URL:https://uwaterloo.ca/math/events/2020-women-math-virtual-celebration
SUMMARY:2020 Women in Math Virtual Celebration
CLASS:PUBLIC
DESCRIPTION:[Girl holding I love math balloon]\n\nJoin us on May 12\, 2020\
 , for the second International Women in\nMathematics Day – as we celebra
 te digitally with a stellar lineup of\nspeakers from across the globe.\n\n
 Register now\n[https://uwaterloo.ca/math/stay-connected-alumni-and-friends
 /waterloo-womens-impact-network]\nto hold your spot. Limited space is avai
 lable.\n\nWe have a full program\, including:
DTSTAMP:20260426T010129Z
END:VEVENT
END:VCALENDAR