BEGIN:VCALENDAR
VERSION:2.0
PRODID:-//Drupal iCal API//EN
X-WR-CALNAME:Events items teaser
X-WR-TIMEZONE:America/Toronto
BEGIN:VTIMEZONE
TZID:America/Toronto
X-LIC-LOCATION:America/Toronto
BEGIN:DAYLIGHT
TZNAME:EDT
TZOFFSETFROM:-0500
TZOFFSETTO:-0400
DTSTART:20200308T070000
END:DAYLIGHT
BEGIN:STANDARD
TZNAME:EST
TZOFFSETFROM:-0400
TZOFFSETTO:-0500
DTSTART:20191103T060000
END:STANDARD
END:VTIMEZONE
BEGIN:VEVENT
UID:69ed63e76bd84
DTSTART;TZID=America/Toronto:20200514T130000
SEQUENCE:0
TRANSP:TRANSPARENT
DTEND;TZID=America/Toronto:20200514T130000
URL:https://uwaterloo.ca/math/events/frontiers-applied-math-colloquium-i-lu
 is-garay
SUMMARY:Frontiers in Applied Math Colloquium I Luis Garay
CLASS:PUBLIC
DESCRIPTION:DANCING TILL THE END OF GRAVITATIONAL COLLAPSE: BLACK STARS\n\n
 The speaker for this seminar is LUIS GARAY from the Universidad\nCompluten
 se de Madrid.
DTSTAMP:20260426T010127Z
END:VEVENT
END:VCALENDAR