BEGIN:VCALENDAR
VERSION:2.0
PRODID:-//Drupal iCal API//EN
X-WR-CALNAME:Events items teaser
X-WR-TIMEZONE:America/Toronto
BEGIN:VTIMEZONE
TZID:America/Toronto
X-LIC-LOCATION:America/Toronto
BEGIN:DAYLIGHT
TZNAME:EDT
TZOFFSETFROM:-0500
TZOFFSETTO:-0400
DTSTART:20200308T070000
END:DAYLIGHT
BEGIN:STANDARD
TZNAME:EST
TZOFFSETFROM:-0400
TZOFFSETTO:-0500
DTSTART:20191103T060000
END:STANDARD
END:VTIMEZONE
BEGIN:VEVENT
UID:69ed357b3e205
DTSTART;TZID=America/Toronto:20200521T100000
SEQUENCE:0
TRANSP:TRANSPARENT
DTEND;TZID=America/Toronto:20200521T100000
URL:https://uwaterloo.ca/math/events/immigration-and-advising-support-sessi
 on-current-math
SUMMARY:Immigration and advising support session for current math students
CLASS:PUBLIC
DESCRIPTION:We will be hosting a 1-hour information session for current\nun
 dergraduate students studying in the Faculty of Math on a study\npermit.
DTSTAMP:20260425T214323Z
END:VEVENT
END:VCALENDAR