BEGIN:VCALENDAR
VERSION:2.0
PRODID:-//Drupal iCal API//EN
X-WR-CALNAME:Events items teaser
X-WR-TIMEZONE:America/Toronto
BEGIN:VTIMEZONE
TZID:America/Toronto
X-LIC-LOCATION:America/Toronto
BEGIN:DAYLIGHT
TZNAME:EDT
TZOFFSETFROM:-0500
TZOFFSETTO:-0400
DTSTART:20200308T070000
END:DAYLIGHT
BEGIN:STANDARD
TZNAME:EST
TZOFFSETFROM:-0400
TZOFFSETTO:-0500
DTSTART:20191103T060000
END:STANDARD
END:VTIMEZONE
BEGIN:VEVENT
UID:69e3a95b8358c
DTSTART;TZID=America/Toronto:20200605T153000
SEQUENCE:0
TRANSP:TRANSPARENT
DTEND;TZID=America/Toronto:20200605T153000
URL:https://uwaterloo.ca/math/events/william-tuttes-distinguished-lecture-s
 eries-lauren-k
SUMMARY:William Tutte's Distinguished Lecture Series - Lauren K. Williams
CLASS:PUBLIC
DESCRIPTION:MATROIDS\, TROPICAL GEOMETRY\, AND POSITIVITY\n\nABSTRACT: 
DTSTAMP:20260418T155507Z
END:VEVENT
END:VCALENDAR