BEGIN:VCALENDAR
VERSION:2.0
PRODID:-//Drupal iCal API//EN
X-WR-CALNAME:Events items teaser
X-WR-TIMEZONE:America/Toronto
BEGIN:VTIMEZONE
TZID:America/Toronto
X-LIC-LOCATION:America/Toronto
BEGIN:DAYLIGHT
TZNAME:EDT
TZOFFSETFROM:-0500
TZOFFSETTO:-0400
DTSTART:20200308T070000
END:DAYLIGHT
BEGIN:STANDARD
TZNAME:EST
TZOFFSETFROM:-0400
TZOFFSETTO:-0500
DTSTART:20191103T060000
END:STANDARD
END:VTIMEZONE
BEGIN:VEVENT
UID:69ed356e3cd69
DTSTART;TZID=America/Toronto:20200619T000000
SEQUENCE:0
TRANSP:TRANSPARENT
DTEND;TZID=America/Toronto:20200619T000000
URL:https://uwaterloo.ca/math/events/celebrate-class-2020
SUMMARY:Celebrate the Class of 2020
CLASS:PUBLIC
DESCRIPTION:[Convocation mace]\n\nCONGRATULATIONS\, CLASS OF 2020\n\nAlthou
 gh we are separated by distance\, we are still celebrating. We\nrecognize 
 the outstanding academic achievement and milestone of over\n1\,300 graduat
 es.
DTSTAMP:20260425T214310Z
END:VEVENT
END:VCALENDAR