BEGIN:VCALENDAR
VERSION:2.0
PRODID:-//Drupal iCal API//EN
X-WR-CALNAME:Events items teaser
X-WR-TIMEZONE:America/Toronto
BEGIN:VTIMEZONE
TZID:America/Toronto
X-LIC-LOCATION:America/Toronto
BEGIN:DAYLIGHT
TZNAME:EDT
TZOFFSETFROM:-0500
TZOFFSETTO:-0400
DTSTART:20200308T070000
END:DAYLIGHT
BEGIN:STANDARD
TZNAME:EST
TZOFFSETFROM:-0400
TZOFFSETTO:-0500
DTSTART:20191103T060000
END:STANDARD
END:VTIMEZONE
BEGIN:VEVENT
UID:69ed632bea21e
DTSTART;TZID=America/Toronto:20201026T103000
SEQUENCE:0
TRANSP:TRANSPARENT
DTEND;TZID=America/Toronto:20201026T120000
URL:https://uwaterloo.ca/math/events/gradinfosession
SUMMARY:Graduate Studies Information Session
CLASS:PUBLIC
DESCRIPTION:The Graduate Studies Information Session was on October 26. S
 tudents\nhad the chance to speak with department representatives and ask
 \nquestions about various programs. 
DTSTAMP:20260426T005819Z
END:VEVENT
END:VCALENDAR