BEGIN:VCALENDAR
VERSION:2.0
PRODID:-//Drupal iCal API//EN
X-WR-CALNAME:Events items teaser
X-WR-TIMEZONE:America/Toronto
BEGIN:VTIMEZONE
TZID:America/Toronto
X-LIC-LOCATION:America/Toronto
BEGIN:DAYLIGHT
TZNAME:EDT
TZOFFSETFROM:-0500
TZOFFSETTO:-0400
DTSTART:20200308T070000
END:DAYLIGHT
BEGIN:STANDARD
TZNAME:EST
TZOFFSETFROM:-0400
TZOFFSETTO:-0500
DTSTART:20201101T060000
END:STANDARD
END:VTIMEZONE
BEGIN:VEVENT
UID:69ed3574b83f6
DTSTART;TZID=America/Toronto:20201118T190000
SEQUENCE:0
TRANSP:TRANSPARENT
DTEND;TZID=America/Toronto:20201118T194500
URL:https://uwaterloo.ca/math/events/wwin-webinar-series-how-females-are-gr
 owing-start-landscape
LOCATION:Virtual Canada
SUMMARY:WWIN Webinar Series: How Females Are Growing the Start-up Landscape
CLASS:PUBLIC
DESCRIPTION:[WWIN Banner with mosaic colours]
DTSTAMP:20260425T214316Z
END:VEVENT
END:VCALENDAR