BEGIN:VCALENDAR
VERSION:2.0
PRODID:-//Drupal iCal API//EN
X-WR-CALNAME:Events items teaser
X-WR-TIMEZONE:America/Toronto
BEGIN:VTIMEZONE
TZID:America/Toronto
X-LIC-LOCATION:America/Toronto
BEGIN:DAYLIGHT
TZNAME:EDT
TZOFFSETFROM:-0500
TZOFFSETTO:-0400
DTSTART:20200308T070000
END:DAYLIGHT
BEGIN:STANDARD
TZNAME:EST
TZOFFSETFROM:-0400
TZOFFSETTO:-0500
DTSTART:20201101T060000
END:STANDARD
END:VTIMEZONE
BEGIN:VEVENT
UID:69e6abf718202
DTSTART;TZID=America/Toronto:20201104T210000
SEQUENCE:0
TRANSP:TRANSPARENT
DTEND;TZID=America/Toronto:20201104T210000
URL:https://uwaterloo.ca/math/events/national-workshop-readi-project
SUMMARY:National Workshop READI Project
CLASS:PUBLIC
DESCRIPTION:The READI Project (Risk Management\, Economic Sustainability\, 
 and\nActuarial Science Development in Indonesia) is a project funded by th
 e\nGovernment of Canada (Global Affairs Canada)\, Manulife Indonesia\, and
 \nSun Life Financial and implemented by the University of Waterloo in\ncol
 laboration with the Financial Services Authority (OJK). The main\nobjectiv
 e of the READI Project is to make Indonesia a regional center\nof excellen
 ce in actuarial science and risk management.
DTSTAMP:20260420T224303Z
END:VEVENT
END:VCALENDAR