BEGIN:VCALENDAR
VERSION:2.0
PRODID:-//Drupal iCal API//EN
X-WR-CALNAME:Events items teaser
X-WR-TIMEZONE:America/Toronto
BEGIN:VTIMEZONE
TZID:America/Toronto
X-LIC-LOCATION:America/Toronto
BEGIN:DAYLIGHT
TZNAME:EDT
TZOFFSETFROM:-0500
TZOFFSETTO:-0400
DTSTART:20200308T070000
END:DAYLIGHT
BEGIN:STANDARD
TZNAME:EST
TZOFFSETFROM:-0400
TZOFFSETTO:-0500
DTSTART:20201101T060000
END:STANDARD
END:VTIMEZONE
BEGIN:VEVENT
UID:69ebcb6976873
DTSTART;TZID=America/Toronto:20201219T130000
SEQUENCE:0
TRANSP:TRANSPARENT
DTEND;TZID=America/Toronto:20201221T130000
URL:https://uwaterloo.ca/math/events/sigmoid-careers-conference-2020-explor
 ing-career-paths
LOCATION:Virtual Canada
SUMMARY:SIGMOID CAREERS Conference 2020: Exploring Career Paths in Software
CLASS:PUBLIC
DESCRIPTION:[dark hallway with a person walking]\n\nNINE SPEAKERS. THREE DA
 YS ONLINE. ZERO COST. (DEC 19 -\nDEC 21\, 2020)\n\nHear from senior Eng
 ineers and Executives from Oculus/Facebook\,\nGoogle\, Zynga\, Snapchat\, 
 Amazon\, NetSpi and start-ups in AI and\nHealthtech.\n\nREGISTER TODAY! [h
 ttps://www.sigmoidcareers.com/con2020]
DTSTAMP:20260424T195833Z
END:VEVENT
END:VCALENDAR