BEGIN:VCALENDAR
VERSION:2.0
PRODID:-//Drupal iCal API//EN
X-WR-CALNAME:Events items teaser
X-WR-TIMEZONE:America/Toronto
BEGIN:VTIMEZONE
TZID:America/Toronto
X-LIC-LOCATION:America/Toronto
BEGIN:DAYLIGHT
TZNAME:EDT
TZOFFSETFROM:-0500
TZOFFSETTO:-0400
DTSTART:20200308T070000
END:DAYLIGHT
BEGIN:STANDARD
TZNAME:EST
TZOFFSETFROM:-0400
TZOFFSETTO:-0500
DTSTART:20201101T060000
END:STANDARD
END:VTIMEZONE
BEGIN:VEVENT
UID:69ed3a02e9e67
DTSTART;TZID=America/Toronto:20210120T140000
SEQUENCE:0
TRANSP:TRANSPARENT
DTEND;TZID=America/Toronto:20210120T140000
URL:https://uwaterloo.ca/math/events/entrepreneurial-computer-scientist
SUMMARY:The entrepreneurial computer scientist
CLASS:PUBLIC
DESCRIPTION:Whether you start a company or work for one\, entrepreneurial s
 kills\nwill be essential in your career as a computer scientist. Steven Wo
 ods\n(MMath '91\, PhD '96)\, Engineering Lead for Google Canada\, will be\
 nsharing his career learnings and inspire you to take every opportunity\ny
 ou can to develop your entrepreneurial skills. \n\nRegister\n[https://us0
 2web.zoom.us/webinar/register/WN_63HnG9t_TVqUaUqZAkzojA]\ntoday for the on
 line event.
DTSTAMP:20260425T220242Z
END:VEVENT
END:VCALENDAR