BEGIN:VCALENDAR
VERSION:2.0
PRODID:-//Drupal iCal API//EN
X-WR-CALNAME:Events items teaser
X-WR-TIMEZONE:America/Toronto
BEGIN:VTIMEZONE
TZID:America/Toronto
X-LIC-LOCATION:America/Toronto
BEGIN:DAYLIGHT
TZNAME:EDT
TZOFFSETFROM:-0500
TZOFFSETTO:-0400
DTSTART:20210314T070000
END:DAYLIGHT
BEGIN:STANDARD
TZNAME:EST
TZOFFSETFROM:-0400
TZOFFSETTO:-0500
DTSTART:20201101T060000
END:STANDARD
END:VTIMEZONE
BEGIN:VEVENT
UID:69ed63f77d680
DTSTART;TZID=America/Toronto:20210324T120000
SEQUENCE:0
TRANSP:TRANSPARENT
DTEND;TZID=America/Toronto:20210324T124500
URL:https://uwaterloo.ca/math/events/wwin-webinar-series-creating-your-own-
 path-opportunities
LOCATION:Waterloo Math Digital Community (WMDC) Platform Canada
SUMMARY:WWIN Webinar Series: Creating Your Own Path: Opportunities\,\nSusta
 inability and Lessons Through COVID-19
CLASS:PUBLIC
DESCRIPTION:[WWIN Banner with mosaic colours]\n\nJoin us for our winter Wa
 terloo Women’s Impact Network\n[https://uwaterloo.ca/math/stay-connected
 -alumni-and-friends/waterloo-womens-impact-network] (WWIN)\nwebinar\, whi
 ch is focused on Creating Your Own Path: Opportunities\,\nSustainability a
 nd Lessons Through COVID-19.
DTSTAMP:20260426T010143Z
END:VEVENT
END:VCALENDAR