BEGIN:VCALENDAR
VERSION:2.0
PRODID:-//Drupal iCal API//EN
X-WR-CALNAME:Events items teaser
X-WR-TIMEZONE:America/Toronto
BEGIN:VTIMEZONE
TZID:America/Toronto
X-LIC-LOCATION:America/Toronto
BEGIN:DAYLIGHT
TZNAME:EDT
TZOFFSETFROM:-0500
TZOFFSETTO:-0400
DTSTART:20200308T070000
END:DAYLIGHT
BEGIN:STANDARD
TZNAME:EST
TZOFFSETFROM:-0400
TZOFFSETTO:-0500
DTSTART:20201101T060000
END:STANDARD
END:VTIMEZONE
BEGIN:VEVENT
UID:69ed6321025e3
DTSTART;TZID=America/Toronto:20210309T183000
SEQUENCE:0
TRANSP:TRANSPARENT
DTEND;TZID=America/Toronto:20210309T193000
URL:https://uwaterloo.ca/math/events/wim-international-womens-day-virtual-h
 appy-hour
SUMMARY:WiM International Women's Day Virtual Happy Hour
CLASS:PUBLIC
DESCRIPTION:[Group of Women]\nCelebrate International Women's Day with stud
 ents\, faculty\, alumni and\nfriends at a Virtual Happy Hour hosted by Wom
 en in Mathematics! Join\nin for an hour of fun activities like trivia gam
 es\, Open Mic\,\nNetworking and chances to win book prizes on Women's Em
 powerment. \n\nPeople of all genders are welcome.
DTSTAMP:20260426T005809Z
END:VEVENT
END:VCALENDAR