BEGIN:VCALENDAR
VERSION:2.0
PRODID:-//Drupal iCal API//EN
X-WR-CALNAME:Events items teaser
X-WR-TIMEZONE:America/Toronto
BEGIN:VTIMEZONE
TZID:America/Toronto
X-LIC-LOCATION:America/Toronto
BEGIN:DAYLIGHT
TZNAME:EDT
TZOFFSETFROM:-0500
TZOFFSETTO:-0400
DTSTART:20210314T070000
END:DAYLIGHT
BEGIN:STANDARD
TZNAME:EST
TZOFFSETFROM:-0400
TZOFFSETTO:-0500
DTSTART:20201101T060000
END:STANDARD
END:VTIMEZONE
BEGIN:VEVENT
UID:69ed39f1e75f2
DTSTART;TZID=America/Toronto:20210618T190000
SEQUENCE:0
TRANSP:TRANSPARENT
DTEND;TZID=America/Toronto:20210618T200000
URL:https://uwaterloo.ca/math/events/faculty-mathematics-spring-2021-convoc
 ation
SUMMARY:Faculty of Mathematics Spring 2021 Convocation
CLASS:PUBLIC
DESCRIPTION:[Convocation mace]\nThe University of Waterloo is proud to hono
 ur the many accomplishments\nof our 2021 faculty of mathematics graduates 
 and will mark this\nmilestone with a virtual convocation ceremony on JUNE
  18\, 7:00 TO\n8:00 P.M. EDT.\n\n* Graduates will hear from the University
  of Waterloo Chancellor\,\nPresident\, Provost and the Dean\n * Degrees wi
 ll be virtually conferred\, and a presentation of\ngraduate names will be 
 showcased on-screen\n * Special awards and honours will be presented\n * T
 he valedictorian will address the class of 2021\n\nGraduands\, family\, fr
 iends and the University community are invited\nto attend our Spring 2021
  convocation ceremony\n[https://uwaterloo.ca/convocation-faculty-of-mathem
 atics/]. Please\nRSVP\n[https://hopin.com/events/faculty-of-mathematics-sp
 ring-2021-convocation]\nin advance so you don't miss the celebration.\n\n-
 ------------------------
DTSTAMP:20260425T220225Z
END:VEVENT
END:VCALENDAR