BEGIN:VCALENDAR
VERSION:2.0
PRODID:-//Drupal iCal API//EN
X-WR-CALNAME:Events items teaser
X-WR-TIMEZONE:America/Toronto
BEGIN:VTIMEZONE
TZID:America/Toronto
X-LIC-LOCATION:America/Toronto
BEGIN:DAYLIGHT
TZNAME:EDT
TZOFFSETFROM:-0500
TZOFFSETTO:-0400
DTSTART:20210314T070000
END:DAYLIGHT
BEGIN:STANDARD
TZNAME:EST
TZOFFSETFROM:-0400
TZOFFSETTO:-0500
DTSTART:20201101T060000
END:STANDARD
END:VTIMEZONE
BEGIN:VEVENT
UID:69ed631eee37a
DTSTART;TZID=America/Toronto:20210924T160000
SEQUENCE:0
TRANSP:TRANSPARENT
DTEND;TZID=America/Toronto:20210924T180000
URL:https://uwaterloo.ca/math/events/happy-hour-trivia
LOCATION:Virtual Canada
SUMMARY:Happy Hour Trivia
CLASS:PUBLIC
DESCRIPTION:[Happy hour trivia banner]\n\nAlumni\, family and friends are y
 ou ready for some friendly\ncompetition? Join us for Happy Hour Trivia at
  Alumni Black and Gold\nDay (@home).
DTSTAMP:20260426T005806Z
END:VEVENT
END:VCALENDAR