BEGIN:VCALENDAR
VERSION:2.0
PRODID:-//Drupal iCal API//EN
X-WR-CALNAME:Events items teaser
X-WR-TIMEZONE:America/Toronto
BEGIN:VTIMEZONE
TZID:America/Toronto
X-LIC-LOCATION:America/Toronto
BEGIN:DAYLIGHT
TZNAME:EDT
TZOFFSETFROM:-0500
TZOFFSETTO:-0400
DTSTART:20210314T070000
END:DAYLIGHT
BEGIN:STANDARD
TZNAME:EST
TZOFFSETFROM:-0400
TZOFFSETTO:-0500
DTSTART:20211107T060000
END:STANDARD
END:VTIMEZONE
BEGIN:VEVENT
UID:69ecfbbf8d915
DTSTART;TZID=America/Toronto:20211208T180000
SEQUENCE:0
TRANSP:TRANSPARENT
DTEND;TZID=America/Toronto:20211208T193000
URL:https://uwaterloo.ca/math/events/2021-td-walter-bean-virtual-public-lec
 ture
LOCATION:Virtual Canada
SUMMARY:2021 TD Walter Bean Virtual Public Lecture
CLASS:PUBLIC
DESCRIPTION:[TD Walter Bean banner] \n\nTHE PROFESSORSHIP IN ENVIRONMENT 20
 21\n\n\"MAD WATER: MOBILE\, ADAPTIVE &amp; DECENTRALIZED INFRASTRUCTURE FOR TH
 E\nCLIMATE CHANGE ERA\"\n\nIn her talk\, Dr. Amber Wutich [http://amberwu
 tich.org/] will explore\none of the greatest threats facing humans in the
  coming century -\nwater insecurity.
DTSTAMP:20260425T173703Z
END:VEVENT
END:VCALENDAR