BEGIN:VCALENDAR
VERSION:2.0
PRODID:-//Drupal iCal API//EN
X-WR-CALNAME:Events items teaser
X-WR-TIMEZONE:America/Toronto
BEGIN:VTIMEZONE
TZID:America/Toronto
X-LIC-LOCATION:America/Toronto
BEGIN:DAYLIGHT
TZNAME:EDT
TZOFFSETFROM:-0500
TZOFFSETTO:-0400
DTSTART:20210314T070000
END:DAYLIGHT
BEGIN:STANDARD
TZNAME:EST
TZOFFSETFROM:-0400
TZOFFSETTO:-0500
DTSTART:20211107T060000
END:STANDARD
END:VTIMEZONE
BEGIN:VEVENT
UID:69ece8d85fa2e
DTSTART;TZID=America/Toronto:20220217T160000
SEQUENCE:0
TRANSP:TRANSPARENT
DTEND;TZID=America/Toronto:20220217T160000
URL:https://uwaterloo.ca/math/events/wim-winter-colloquium-2022-statistical
 -learning-noisy-data
SUMMARY:WiM Winter Colloquium 2022: Statistical Learning of Noisy Data
CLASS:PUBLIC
DESCRIPTION:[Professor Grace Y. Yi- headshot]\n\nStatistical Learning of No
 isy Data\n\nJoin WiM for a 45 Minute talk with Professor Grace Y. Yi a
 nd\na Q&amp;A session to follow.\n\nRegister today\n[https://ticketfi.com/eve
 nt/4437/wim-winter-colloquium-2022] to\nattend the WiM Winter Colloquium
  2022.
DTSTAMP:20260425T161624Z
END:VEVENT
END:VCALENDAR