BEGIN:VCALENDAR
VERSION:2.0
PRODID:-//Drupal iCal API//EN
X-WR-CALNAME:Events items teaser
X-WR-TIMEZONE:America/Toronto
BEGIN:VTIMEZONE
TZID:America/Toronto
X-LIC-LOCATION:America/Toronto
BEGIN:DAYLIGHT
TZNAME:EDT
TZOFFSETFROM:-0500
TZOFFSETTO:-0400
DTSTART:20210314T070000
END:DAYLIGHT
BEGIN:STANDARD
TZNAME:EST
TZOFFSETFROM:-0400
TZOFFSETTO:-0500
DTSTART:20211107T060000
END:STANDARD
END:VTIMEZONE
BEGIN:VEVENT
UID:69ed59ef90e1e
DTSTART;TZID=America/New_York:20220228T183000
SEQUENCE:0
TRANSP:TRANSPARENT
DTEND;TZID=America/New_York:20220228T183000
URL:https://uwaterloo.ca/math/events/cpi-talk-are-we-ready-quantum-era
SUMMARY:CPI Talk - Are we ready for the quantum era?
CLASS:PUBLIC
DESCRIPTION:ARE WE READY FOR THE QUANTUM ERA?\n\nMONDAY\, FEBRUARY 28TH FRO
 M 6:30-8:00 P.M.\n\nSpeakers: Michele Mosca and Sara Zafar Jafarzadeh\n
 \nQuantum mechanics enables powerful new tools and capabilities. Despite\n
 the many anticipated positive applications\, some of the tools would\nthre
 aten the security of the digital tools and platforms upon which we\nincrea
 singly rely\, such as Internet of Things devices\, e-commerce\,\ne-Health 
 and more. And some of the tools enable new methods for\nprotecting privacy
  and the security of information and digital\nsystems.
DTSTAMP:20260426T001855Z
END:VEVENT
END:VCALENDAR