BEGIN:VCALENDAR
VERSION:2.0
PRODID:-//Drupal iCal API//EN
X-WR-CALNAME:Events items teaser
X-WR-TIMEZONE:America/Toronto
BEGIN:VTIMEZONE
TZID:America/Toronto
X-LIC-LOCATION:America/Toronto
BEGIN:DAYLIGHT
TZNAME:EDT
TZOFFSETFROM:-0500
TZOFFSETTO:-0400
DTSTART:20220313T070000
END:DAYLIGHT
BEGIN:STANDARD
TZNAME:EST
TZOFFSETFROM:-0400
TZOFFSETTO:-0500
DTSTART:20211107T060000
END:STANDARD
END:VTIMEZONE
BEGIN:VEVENT
UID:69e982412703e
DTSTART;TZID=America/Toronto:20221001T150000
SEQUENCE:0
TRANSP:TRANSPARENT
DTEND;TZID=America/Toronto:20221001T150000
URL:https://uwaterloo.ca/math/events/wes-graham-symposium
LOCATION:M3 - Mathematics 3 200 University Avenue West 1003 Waterloo ON N2L
  3G1 Canada
SUMMARY:Wes Graham Symposium
CLASS:PUBLIC
DESCRIPTION:[Wes Graham Symposium banner] The Faculty of Mathematics and th
 e\nFaculty of Health invite you to join us on Saturday\, October 1\, at\nt
 he Wes Graham Symposium\, a celebration of research and innovation\nmade 
 possible by the legacy of  [/ht]
DTSTAMP:20260423T022153Z
END:VEVENT
END:VCALENDAR