BEGIN:VCALENDAR
VERSION:2.0
PRODID:-//Drupal iCal API//EN
X-WR-CALNAME:Events items teaser
X-WR-TIMEZONE:America/Toronto
BEGIN:VTIMEZONE
TZID:America/Toronto
X-LIC-LOCATION:America/Toronto
BEGIN:DAYLIGHT
TZNAME:EDT
TZOFFSETFROM:-0500
TZOFFSETTO:-0400
DTSTART:20220313T070000
END:DAYLIGHT
BEGIN:STANDARD
TZNAME:EST
TZOFFSETFROM:-0400
TZOFFSETTO:-0500
DTSTART:20221106T060000
END:STANDARD
END:VTIMEZONE
BEGIN:VEVENT
UID:69e981fd44327
DTSTART;TZID=America/Toronto:20230123T163000
SEQUENCE:0
TRANSP:TRANSPARENT
DTEND;TZID=America/Toronto:20230123T163000
URL:https://uwaterloo.ca/math/events/entrepreneurship-and-impact-series-ian
 -mackinnon
LOCATION:DC - William G. Davis Computer Research Centre 200 University Aven
 ue West DC-1302 Waterloo ON N2L 3G1 Canada
SUMMARY:Ask-me-Anything with Ian MacKinnon
CLASS:PUBLIC
DESCRIPTION:[Banner image noting Entrepreneurship and Impact Series title a
 nd Ian\nMacKinnon] Join us on January 23\, 2023\, in DC 1302 at 4:30 p.m
 . for\nthis exclusive 'Ask Me Anything' event featuring Ian MacKinnon\,\nf
 ounder and CTO of Later.com and current CTO at Later/Mavrck.
DTSTAMP:20260423T022045Z
END:VEVENT
END:VCALENDAR