BEGIN:VCALENDAR
VERSION:2.0
PRODID:-//Drupal iCal API//EN
X-WR-CALNAME:Events items teaser
X-WR-TIMEZONE:America/Toronto
BEGIN:VTIMEZONE
TZID:America/Toronto
X-LIC-LOCATION:America/Toronto
BEGIN:DAYLIGHT
TZNAME:EDT
TZOFFSETFROM:-0500
TZOFFSETTO:-0400
DTSTART:20220313T070000
END:DAYLIGHT
BEGIN:STANDARD
TZNAME:EST
TZOFFSETFROM:-0400
TZOFFSETTO:-0500
DTSTART:20221106T060000
END:STANDARD
END:VTIMEZONE
BEGIN:VEVENT
UID:69ed59f524327
DTSTART;TZID=America/Toronto:20230213T090000
SEQUENCE:0
TRANSP:TRANSPARENT
DTEND;TZID=America/Toronto:20230303T235500
URL:https://uwaterloo.ca/math/events/winter-2023-student-experience-survey-
 ses
LOCATION:Online
SUMMARY:Winter 2023 Student Experience Survey (SES)
CLASS:PUBLIC
DESCRIPTION:[Winter 2023 SES]\n\nThe Student Experience Survey is a survey 
 the goes out every fall and\nwinter semester to gage the student learning 
 experience at the\nUniversity of Waterloo. Only 10\,000 students are invit
 ed\, check your\n@uwaterloo email or LEARN on Feb 13 to see if you have be
 en invited\nthis term. Students who submit their surveys will receive $5 o
 n their\nWatCards. Visit the Institutional Analysis and Planning (IAP) web
 site\nfor more information. 
DTSTAMP:20260426T001901Z
END:VEVENT
END:VCALENDAR