BEGIN:VCALENDAR
VERSION:2.0
PRODID:-//Drupal iCal API//EN
X-WR-CALNAME:Events items teaser
X-WR-TIMEZONE:America/Toronto
BEGIN:VTIMEZONE
TZID:America/Toronto
X-LIC-LOCATION:America/Toronto
BEGIN:DAYLIGHT
TZNAME:EDT
TZOFFSETFROM:-0500
TZOFFSETTO:-0400
DTSTART:20230312T070000
END:DAYLIGHT
BEGIN:STANDARD
TZNAME:EST
TZOFFSETFROM:-0400
TZOFFSETTO:-0500
DTSTART:20221106T060000
END:STANDARD
END:VTIMEZONE
BEGIN:VEVENT
UID:69ebc78c58af7
DTSTART;TZID=America/Toronto:20230323T163000
SEQUENCE:0
TRANSP:TRANSPARENT
DTEND;TZID=America/Toronto:20230323T183000
URL:https://uwaterloo.ca/math/events/math-grad-class-send-2023
LOCATION:FED - Federation Hall 200 University Avenue West Waterloo ON N2L 3
 G1 Canada
SUMMARY:Math Grad Class Send Off 2023
CLASS:PUBLIC
DESCRIPTION:The Faculty of Mathematics invites you to join us at this cele
 bratory\nevent\, hosted in honour of your accomplishments. Enjoy an evenin
 g of\ndelicious food\, receive a keepsake gift\, make memories in our 360\
 nphoto booth\, and hear inspirational speeches by the Dean of\nMathematics
 \, Mark Giesbrecht\, and recent Math alumni.\n\nCelebrate before you gradu
 ate!
DTSTAMP:20260424T194204Z
END:VEVENT
END:VCALENDAR