BEGIN:VCALENDAR
VERSION:2.0
PRODID:-//Drupal iCal API//EN
X-WR-CALNAME:Events items teaser
X-WR-TIMEZONE:America/Toronto
BEGIN:VTIMEZONE
TZID:America/Toronto
X-LIC-LOCATION:America/Toronto
BEGIN:DAYLIGHT
TZNAME:EDT
TZOFFSETFROM:-0500
TZOFFSETTO:-0400
DTSTART:20170312T070000
END:DAYLIGHT
BEGIN:STANDARD
TZNAME:EST
TZOFFSETFROM:-0400
TZOFFSETTO:-0500
DTSTART:20161106T060000
END:STANDARD
END:VTIMEZONE
BEGIN:VEVENT
UID:69b493364bb67
DTSTART;TZID=America/Toronto:20170512T110000
SEQUENCE:0
TRANSP:TRANSPARENT
DTEND;TZID=America/Toronto:20170512T110000
URL:https://uwaterloo.ca/math50/events/william-tutte-way-naming-celebration
LOCATION:DC - William G. Davis Computer Research Centre 200 University Aven
 ue West Quad outside Waterloo ON N2L 3G1 Canada
SUMMARY:William Tutte Way Naming Celebration
CLASS:PUBLIC
DESCRIPTION:You are invited to join STEPHEN M. WATT (Dean of the Faculty of
 \nMathematics)\, Professor DAN YOUNGER (Tutte Historian)\, and the 50th\nA
 nniversary Committee for the _WILLIAM TUTTE WAY NAMING _CELEBRATION\non Ma
 y 12\, 2017.
DTSTAMP:20260313T224406Z
END:VEVENT
END:VCALENDAR