BEGIN:VCALENDAR
VERSION:2.0
PRODID:-//Drupal iCal API//EN
X-WR-CALNAME:Events items teaser
X-WR-TIMEZONE:America/Toronto
BEGIN:VTIMEZONE
TZID:America/Toronto
X-LIC-LOCATION:America/Toronto
BEGIN:DAYLIGHT
TZNAME:EDT
TZOFFSETFROM:-0500
TZOFFSETTO:-0400
DTSTART:20230312T070000
END:DAYLIGHT
BEGIN:STANDARD
TZNAME:EST
TZOFFSETFROM:-0400
TZOFFSETTO:-0500
DTSTART:20231105T060000
END:STANDARD
END:VTIMEZONE
BEGIN:VEVENT
UID:69e6cb4b1ec20
DTSTART;TZID=America/Toronto:20231129T123000
SEQUENCE:0
TRANSP:TRANSPARENT
DTEND;TZID=America/Toronto:20231129T133000
URL:https://uwaterloo.ca/music/events/noon-hour-concert-treasures-europe
LOCATION:CGR - Conrad Grebel University 140 Westmount Road North Chapel Wat
 erloo ON N2L 3G6 Canada
SUMMARY:Noon Hour Concert: Treasures of Europe
CLASS:PUBLIC
DESCRIPTION:This concert presents European composers in 20 century with var
 iety of\ncompositional style.  Violinist Jung Tsai\, violist Judith Daven
 port\,\nand cellist Rebecca Morton are the featured musicians.
DTSTAMP:20260421T005643Z
END:VEVENT
END:VCALENDAR