BEGIN:VCALENDAR
VERSION:2.0
PRODID:-//Drupal iCal API//EN
X-WR-CALNAME:Events items teaser
X-WR-TIMEZONE:America/Toronto
BEGIN:VTIMEZONE
TZID:America/Toronto
X-LIC-LOCATION:America/Toronto
BEGIN:DAYLIGHT
TZNAME:EDT
TZOFFSETFROM:-0500
TZOFFSETTO:-0400
DTSTART:20230312T070000
END:DAYLIGHT
BEGIN:STANDARD
TZNAME:EST
TZOFFSETFROM:-0400
TZOFFSETTO:-0500
DTSTART:20231105T060000
END:STANDARD
END:VTIMEZONE
BEGIN:VEVENT
UID:69e93c412e79e
DTSTART;TZID=America/Toronto:20231203T140000
SEQUENCE:0
TRANSP:TRANSPARENT
DTEND;TZID=America/Toronto:20231203T153000
URL:https://uwaterloo.ca/music/events/jazz-sunday-afternoon
LOCATION:CGR - Conrad Grebel University 140 Westmount Road North Great Hall
  Waterloo ON N2L 3G6 Canada
SUMMARY:Jazz On A Sunday Afternoon
CLASS:PUBLIC
DESCRIPTION:This is the Student Jazz Ensemble End of Term Concert\, directe
 d by\nMichael Wood.  Featured composers include Dave Brubeck\, Chuck\nMan
 gione\, and more.
DTSTAMP:20260422T212313Z
END:VEVENT
END:VCALENDAR