BEGIN:VCALENDAR
VERSION:2.0
PRODID:-//Drupal iCal API//EN
X-WR-CALNAME:Events items teaser
X-WR-TIMEZONE:America/Toronto
BEGIN:VTIMEZONE
TZID:America/Toronto
X-LIC-LOCATION:America/Toronto
BEGIN:DAYLIGHT
TZNAME:EDT
TZOFFSETFROM:-0500
TZOFFSETTO:-0400
DTSTART:20230312T070000
END:DAYLIGHT
BEGIN:STANDARD
TZNAME:EST
TZOFFSETFROM:-0400
TZOFFSETTO:-0500
DTSTART:20231105T060000
END:STANDARD
END:VTIMEZONE
BEGIN:VEVENT
UID:69ea12327e921
DTSTART;TZID=America/Toronto:20231203T193000
SEQUENCE:0
TRANSP:TRANSPARENT
DTEND;TZID=America/Toronto:20231203T213000
URL:https://uwaterloo.ca/music/events/instrumental-chamber-ensembles-fall-2
 023-concert
LOCATION:CGR - Conrad Grebel University 140 Westmount Road North Chapel Wat
 erloo ON N2L 3G6 Canada
SUMMARY:Instrumental Chamber Ensembles - Fall 2023 Concert
CLASS:PUBLIC
DESCRIPTION:Four different Instrumental Chamber Ensembles will play classic
 al\npieces\, ranging from a Mozart piano quartet to a modern Jenni Brandon
 \npiece.
DTSTAMP:20260423T123602Z
END:VEVENT
END:VCALENDAR