BEGIN:VCALENDAR
VERSION:2.0
PRODID:-//Drupal iCal API//EN
X-WR-CALNAME:Events items teaser
X-WR-TIMEZONE:America/Toronto
BEGIN:VTIMEZONE
TZID:America/Toronto
X-LIC-LOCATION:America/Toronto
BEGIN:DAYLIGHT
TZNAME:EDT
TZOFFSETFROM:-0500
TZOFFSETTO:-0400
DTSTART:20230312T070000
END:DAYLIGHT
BEGIN:STANDARD
TZNAME:EST
TZOFFSETFROM:-0400
TZOFFSETTO:-0500
DTSTART:20231105T060000
END:STANDARD
END:VTIMEZONE
BEGIN:VEVENT
UID:69e6abbc80c12
DTSTART;TZID=America/Toronto:20240207T123000
SEQUENCE:0
TRANSP:TRANSPARENT
DTEND;TZID=America/Toronto:20240207T133000
URL:https://uwaterloo.ca/music/events/noon-hour-concert-canadian-female-com
 posers-life-love-and
LOCATION:CGR - Conrad Grebel University 140 Westmount Road North Chapel Wat
 erloo ON N2L 3G6 Canada
SUMMARY:Noon Hour Concert: Canadian Female Composers in Life\, Love\, and M
 isery
CLASS:PUBLIC
DESCRIPTION:Mezzo-soprano Caroline Schmidt will perform songs by Canadian w
 omen\ncomposers\, accompanied by pianist Christine Klaver-Schmidt. These\
 nworks delve into a variety of aspects of life through song: the\nbeauty 
 of nature and love\, but also the pain that makes all of our\nlives bitte
 rsweet.
DTSTAMP:20260420T224204Z
END:VEVENT
END:VCALENDAR