BEGIN:VCALENDAR
VERSION:2.0
PRODID:-//Drupal iCal API//EN
X-WR-CALNAME:Events items teaser
X-WR-TIMEZONE:America/Toronto
BEGIN:VTIMEZONE
TZID:America/Toronto
X-LIC-LOCATION:America/Toronto
BEGIN:DAYLIGHT
TZNAME:EDT
TZOFFSETFROM:-0500
TZOFFSETTO:-0400
DTSTART:20240310T070000
END:DAYLIGHT
BEGIN:STANDARD
TZNAME:EST
TZOFFSETFROM:-0400
TZOFFSETTO:-0500
DTSTART:20231105T060000
END:STANDARD
END:VTIMEZONE
BEGIN:VEVENT
UID:69e688e874896
DTSTART;TZID=America/Toronto:20240324T193000
SEQUENCE:0
TRANSP:TRANSPARENT
DTEND;TZID=America/Toronto:20240324T213000
URL:https://uwaterloo.ca/music/events/beauty-nature-through-music-orchestra
 uwaterloo-concert
LOCATION:Knox Presbyterian Church 50 Erb St West Waterloo ON N2L 1T1 Canada
SUMMARY:The Beauty of Nature through Music: Orchestra@UWaterloo concert
CLASS:PUBLIC
DESCRIPTION:This term the 3rd place winner from the 2023 Concerto competiti
 on will\nplay Grieg's Piano Concerto in A Minor.
DTSTAMP:20260420T201328Z
END:VEVENT
END:VCALENDAR