BEGIN:VCALENDAR
VERSION:2.0
PRODID:-//Drupal iCal API//EN
X-WR-CALNAME:Events items teaser
X-WR-TIMEZONE:America/Toronto
BEGIN:VTIMEZONE
TZID:America/Toronto
X-LIC-LOCATION:America/Toronto
BEGIN:DAYLIGHT
TZNAME:EDT
TZOFFSETFROM:-0500
TZOFFSETTO:-0400
DTSTART:20240310T070000
END:DAYLIGHT
BEGIN:STANDARD
TZNAME:EST
TZOFFSETFROM:-0400
TZOFFSETTO:-0500
DTSTART:20231105T060000
END:STANDARD
END:VTIMEZONE
BEGIN:VEVENT
UID:69e5458b6c6ef
DTSTART;TZID=America/Toronto:20241023T120000
SEQUENCE:0
TRANSP:TRANSPARENT
DTEND;TZID=America/Toronto:20241023T130000
URL:https://uwaterloo.ca/music/events/noon-hour-concert-contemporary-austra
 lian-piano-four-hands
LOCATION:CGR - Conrad Grebel University 140 Westmount Road North Waterloo O
 N N2L 3G6 Canada
SUMMARY:Noon Hour Concert: Contemporary Australian Piano Four Hands Sonatas
CLASS:PUBLIC
DESCRIPTION:Ryan Baxter and Connor O'Kane will perform two Australian compo
 sitions\nfor four handed piano.
DTSTAMP:20260419T211347Z
END:VEVENT
END:VCALENDAR