BEGIN:VCALENDAR
VERSION:2.0
PRODID:-//Drupal iCal API//EN
X-WR-CALNAME:Events items teaser
X-WR-TIMEZONE:America/Toronto
BEGIN:VTIMEZONE
TZID:America/Toronto
X-LIC-LOCATION:America/Toronto
BEGIN:DAYLIGHT
TZNAME:EDT
TZOFFSETFROM:-0500
TZOFFSETTO:-0400
DTSTART:20240310T070000
END:DAYLIGHT
BEGIN:STANDARD
TZNAME:EST
TZOFFSETFROM:-0400
TZOFFSETTO:-0500
DTSTART:20241103T060000
END:STANDARD
END:VTIMEZONE
BEGIN:VEVENT
UID:69e6abc6ef757
DTSTART;TZID=America/Toronto:20241123T193000
SEQUENCE:0
TRANSP:TRANSPARENT
DTEND;TZID=America/Toronto:20241123T213000
URL:https://uwaterloo.ca/music/events/orchestrauwaterloo-20th-anniversary-c
 oncert
LOCATION:Knox Presbyterian Church 50 Erb St West Waterloo ON Canada
SUMMARY:Orchestra@UWaterloo 20th Anniversary Concert
CLASS:PUBLIC
DESCRIPTION:The Orchestra@UWaterloo will be celebrating their 20th annivers
 ary\,\nincluding repeating some of the pieces from their original concert 
 in\nthe Humanities Theatre in 2004.
DTSTAMP:20260420T224214Z
END:VEVENT
END:VCALENDAR