BEGIN:VCALENDAR
VERSION:2.0
PRODID:-//Drupal iCal API//EN
X-WR-CALNAME:Events items teaser
X-WR-TIMEZONE:America/Toronto
BEGIN:VTIMEZONE
TZID:America/Toronto
X-LIC-LOCATION:America/Toronto
BEGIN:DAYLIGHT
TZNAME:EDT
TZOFFSETFROM:-0500
TZOFFSETTO:-0400
DTSTART:20240310T070000
END:DAYLIGHT
BEGIN:STANDARD
TZNAME:EST
TZOFFSETFROM:-0400
TZOFFSETTO:-0500
DTSTART:20241103T060000
END:STANDARD
END:VTIMEZONE
BEGIN:VEVENT
UID:69e65f0a1e18d
DTSTART;TZID=America/Toronto:20241124T150000
SEQUENCE:0
TRANSP:TRANSPARENT
DTEND;TZID=America/Toronto:20241124T163000
URL:https://uwaterloo.ca/music/events/elements-chamber-choir-fall-2024-conc
 ert
LOCATION:St. John the Evangelist Anglican Church 23 Water Street North Kitc
 hener ON Canada
SUMMARY:Elements: Chamber Choir Fall 2024 Concert
CLASS:PUBLIC
DESCRIPTION:Directed by Prof. Mark Vuorinen\, the Chamber Choir is a 30 voi
 ce choir\ncomposed of students from all faculties.  The feature piece of 
 this\nconcert is a four movement work by Katarina Gimon called Elements.\n
  Its movements are Earth\, Air\, Fire and Water. 
DTSTAMP:20260420T171450Z
END:VEVENT
END:VCALENDAR