BEGIN:VCALENDAR
VERSION:2.0
PRODID:-//Drupal iCal API//EN
X-WR-CALNAME:Events items teaser
X-WR-TIMEZONE:America/Toronto
BEGIN:VTIMEZONE
TZID:America/Toronto
X-LIC-LOCATION:America/Toronto
BEGIN:DAYLIGHT
TZNAME:EDT
TZOFFSETFROM:-0500
TZOFFSETTO:-0400
DTSTART:20240310T070000
END:DAYLIGHT
BEGIN:STANDARD
TZNAME:EST
TZOFFSETFROM:-0400
TZOFFSETTO:-0500
DTSTART:20241103T060000
END:STANDARD
END:VTIMEZONE
BEGIN:VEVENT
UID:69e6abc77a731
DTSTART;TZID=America/Toronto:20241122T193000
SEQUENCE:0
TRANSP:TRANSPARENT
DTEND;TZID=America/Toronto:20241122T210000
URL:https://uwaterloo.ca/music/events/balinese-percussion-ensemble-concert-
 fall-2024
LOCATION:Knox Presbyterian Church 50 Erb St W Waterloo ON N2L 1T1 Canada
SUMMARY:Balinese Percussion Ensemble Concert- Fall 2024
CLASS:PUBLIC
DESCRIPTION:The Balinese Percussion Ensemble provides a feast for the eyes 
 and the\nears. Please join us for this fascinating concert.
DTSTAMP:20260420T224215Z
END:VEVENT
END:VCALENDAR