BEGIN:VCALENDAR
VERSION:2.0
PRODID:-//Drupal iCal API//EN
X-WR-CALNAME:Events items teaser
X-WR-TIMEZONE:America/Toronto
BEGIN:VTIMEZONE
TZID:America/Toronto
X-LIC-LOCATION:America/Toronto
BEGIN:DAYLIGHT
TZNAME:EDT
TZOFFSETFROM:-0500
TZOFFSETTO:-0400
DTSTART:20250309T070000
END:DAYLIGHT
BEGIN:STANDARD
TZNAME:EST
TZOFFSETFROM:-0400
TZOFFSETTO:-0500
DTSTART:20241103T060000
END:STANDARD
END:VTIMEZONE
BEGIN:VEVENT
UID:69e4f890320e3
DTSTART;TZID=America/Toronto:20250319T120000
SEQUENCE:0
TRANSP:TRANSPARENT
DTEND;TZID=America/Toronto:20250319T130000
URL:https://uwaterloo.ca/music/events/noon-hour-concert-enthusiastically-ci
 rcle
LOCATION:CGR - Conrad Grebel University 140 Westmount Road North Chapel Wat
 erloo ON N2L 3G6 Canada
SUMMARY:Noon Hour Concert: Enthusiastically in the Circle
CLASS:PUBLIC
DESCRIPTION:This concert features Shahriyar Jamshidi\, an Illustrious\nKurd
 ish-Canadian Kamānche player\, composer and vocalist.
DTSTAMP:20260419T154520Z
END:VEVENT
END:VCALENDAR