BEGIN:VCALENDAR
VERSION:2.0
PRODID:-//Drupal iCal API//EN
X-WR-CALNAME:Events items teaser
X-WR-TIMEZONE:America/Toronto
BEGIN:VTIMEZONE
TZID:America/Toronto
X-LIC-LOCATION:America/Toronto
BEGIN:DAYLIGHT
TZNAME:EDT
TZOFFSETFROM:-0500
TZOFFSETTO:-0400
DTSTART:20250309T070000
END:DAYLIGHT
BEGIN:STANDARD
TZNAME:EST
TZOFFSETFROM:-0400
TZOFFSETTO:-0500
DTSTART:20241103T060000
END:STANDARD
END:VTIMEZONE
BEGIN:VEVENT
UID:69e7ceb86db72
DTSTART;TZID=America/Toronto:20250330T193000
SEQUENCE:0
TRANSP:TRANSPARENT
DTEND;TZID=America/Toronto:20250330T213000
URL:https://uwaterloo.ca/music/events/instrumental-chamber-ensembles-concer
 t-winter-2025
LOCATION:CGR - Conrad Grebel University 140 Westmount Road North Chapel Wat
 erloo ON N2L 3G6 Canada
SUMMARY:Instrumental Chamber Ensembles Concert - Winter 2025
CLASS:PUBLIC
DESCRIPTION:Six different Instrumental Chamber Ensemble groups will play\nd
 elightful classical music\, including Astor Piazzolla's 4 Seasons in\nBuen
 os Aires.
DTSTAMP:20260421T192336Z
END:VEVENT
END:VCALENDAR