BEGIN:VCALENDAR
VERSION:2.0
PRODID:-//Drupal iCal API//EN
X-WR-CALNAME:Events items teaser
X-WR-TIMEZONE:America/Toronto
BEGIN:VTIMEZONE
TZID:America/Toronto
X-LIC-LOCATION:America/Toronto
BEGIN:DAYLIGHT
TZNAME:EDT
TZOFFSETFROM:-0500
TZOFFSETTO:-0400
DTSTART:20250309T070000
END:DAYLIGHT
BEGIN:STANDARD
TZNAME:EST
TZOFFSETFROM:-0400
TZOFFSETTO:-0500
DTSTART:20241103T060000
END:STANDARD
END:VTIMEZONE
BEGIN:VEVENT
UID:69e65f519e199
DTSTART;TZID=America/Toronto:20250727T193000
SEQUENCE:0
TRANSP:TRANSPARENT
DTEND;TZID=America/Toronto:20250727T213000
URL:https://uwaterloo.ca/music/events/instrumental-chamber-ensembles-concer
 t-spring-2025
LOCATION:CGR - Conrad Grebel University 140 Westmount Road North Chapel Wat
 erloo ON N2L 3G6 Canada
SUMMARY:Instrumental Chamber Ensembles Concert - Spring 2025
CLASS:PUBLIC
DESCRIPTION:Enjoy music performed by 4 to 6 different student chamber group
 s\,\nincluding string trios and piano quartets.
DTSTAMP:20260420T171601Z
END:VEVENT
END:VCALENDAR