BEGIN:VCALENDAR
VERSION:2.0
PRODID:-//Drupal iCal API//EN
X-WR-CALNAME:Events items teaser
X-WR-TIMEZONE:America/Toronto
BEGIN:VTIMEZONE
TZID:America/Toronto
X-LIC-LOCATION:America/Toronto
BEGIN:DAYLIGHT
TZNAME:EDT
TZOFFSETFROM:-0500
TZOFFSETTO:-0400
DTSTART:20250309T070000
END:DAYLIGHT
BEGIN:STANDARD
TZNAME:EST
TZOFFSETFROM:-0400
TZOFFSETTO:-0500
DTSTART:20241103T060000
END:STANDARD
END:VTIMEZONE
BEGIN:VEVENT
UID:69e7ceb573c28
DTSTART;TZID=America/Toronto:20250727T140000
SEQUENCE:0
TRANSP:TRANSPARENT
DTEND;TZID=America/Toronto:20250727T150000
URL:https://uwaterloo.ca/music/events/spring-forward-fall-back-jazz-ensembl
 e-concert
LOCATION:CGR - Conrad Grebel University 140 Westmount Road North Great Hall
 \, room 1111 Waterloo ON N2L 3G6 Canada
SUMMARY:Spring Forward\, Fall Back: Jazz Ensemble Concert
CLASS:PUBLIC
DESCRIPTION:There is no better way to spend a Sunday afternoon.  Please jo
 in us\nfor our Spring term jazz ensemble concert.
DTSTAMP:20260421T192333Z
END:VEVENT
END:VCALENDAR