BEGIN:VCALENDAR
VERSION:2.0
PRODID:-//Drupal iCal API//EN
X-WR-CALNAME:Events items teaser
X-WR-TIMEZONE:America/Toronto
BEGIN:VTIMEZONE
TZID:America/Toronto
X-LIC-LOCATION:America/Toronto
BEGIN:DAYLIGHT
TZNAME:EDT
TZOFFSETFROM:-0500
TZOFFSETTO:-0400
DTSTART:20250309T070000
END:DAYLIGHT
BEGIN:STANDARD
TZNAME:EST
TZOFFSETFROM:-0400
TZOFFSETTO:-0500
DTSTART:20241103T060000
END:STANDARD
END:VTIMEZONE
BEGIN:VEVENT
UID:69e6bba6b478f
DTSTART;TZID=America/Toronto:20250822T190000
SEQUENCE:0
TRANSP:TRANSPARENT
DTEND;TZID=America/Toronto:20250822T203000
URL:https://uwaterloo.ca/music/events/ommc-2025-finale-concert
LOCATION:CGR - Conrad Grebel University 140 Westmount Road North Great Hall
 \, room 1111 Waterloo ON N2L 3G6 Canada
SUMMARY:OMMC 2025 Finale Concert
CLASS:PUBLIC
DESCRIPTION:After two weeks of hard work\, the Ontario Mennonite Music Camp
 ers will\npresent choral and orchestra pieces\, as well as a selection of 
 songs\nfrom the _Into the Woods _musical.
DTSTAMP:20260420T234958Z
END:VEVENT
END:VCALENDAR