BEGIN:VCALENDAR
VERSION:2.0
PRODID:-//Drupal iCal API//EN
X-WR-CALNAME:Events items teaser
X-WR-TIMEZONE:America/Toronto
BEGIN:VTIMEZONE
TZID:America/Toronto
X-LIC-LOCATION:America/Toronto
BEGIN:DAYLIGHT
TZNAME:EDT
TZOFFSETFROM:-0500
TZOFFSETTO:-0400
DTSTART:20250309T070000
END:DAYLIGHT
BEGIN:STANDARD
TZNAME:EST
TZOFFSETFROM:-0400
TZOFFSETTO:-0500
DTSTART:20251102T060000
END:STANDARD
END:VTIMEZONE
BEGIN:VEVENT
UID:69e688e7eaa7d
DTSTART;TZID=America/Toronto:20251114T193000
SEQUENCE:0
TRANSP:TRANSPARENT
DTEND;TZID=America/Toronto:20251114T210000
URL:https://uwaterloo.ca/music/events/balinese-percussion-ensemble-concert-
 fall-2025-0
LOCATION:HH - J.G. Hagey Hall of the Humanities 200 University Avenue West 
 Humanities Theatre Waterloo ON N2L 3G1 Canada
SUMMARY:Balinese Percussion Ensemble Concert Fall 2025
CLASS:PUBLIC
DESCRIPTION:Both the Warga Santi (Community Gamelan) and the student ensemb
 le will\nperform classic Gamelan pieces at this concert. 
DTSTAMP:20260420T201327Z
END:VEVENT
END:VCALENDAR