BEGIN:VCALENDAR
VERSION:2.0
PRODID:-//Drupal iCal API//EN
X-WR-CALNAME:Events items teaser
X-WR-TIMEZONE:America/Toronto
BEGIN:VTIMEZONE
TZID:America/Toronto
X-LIC-LOCATION:America/Toronto
BEGIN:DAYLIGHT
TZNAME:EDT
TZOFFSETFROM:-0500
TZOFFSETTO:-0400
DTSTART:20260308T070000
END:DAYLIGHT
BEGIN:STANDARD
TZNAME:EST
TZOFFSETFROM:-0400
TZOFFSETTO:-0500
DTSTART:20251102T060000
END:STANDARD
END:VTIMEZONE
BEGIN:VEVENT
UID:69eba766db041
DTSTART;TZID=America/Toronto:20260321T193000
SEQUENCE:0
TRANSP:TRANSPARENT
DTEND;TZID=America/Toronto:20260321T210000
URL:https://uwaterloo.ca/music/events/longing-and-love-chamber-choir-concer
 t
LOCATION:St. John the Evangelist Anglican Church 23 Water Street North Kitc
 hener ON N2H 5A4 Canada
SUMMARY:Longing and Love: Chamber Choir concert
CLASS:PUBLIC
DESCRIPTION:This 30 voice choir will perform music by Bach\, Gimon\, Gawtho
 rpe\, and\nothers.
DTSTAMP:20260424T172454Z
END:VEVENT
END:VCALENDAR