BEGIN:VCALENDAR
VERSION:2.0
PRODID:-//Drupal iCal API//EN
X-WR-CALNAME:Events items teaser
X-WR-TIMEZONE:America/Toronto
BEGIN:VTIMEZONE
TZID:America/Toronto
X-LIC-LOCATION:America/Toronto
BEGIN:DAYLIGHT
TZNAME:EDT
TZOFFSETFROM:-0500
TZOFFSETTO:-0400
DTSTART:20260308T070000
END:DAYLIGHT
BEGIN:STANDARD
TZNAME:EST
TZOFFSETFROM:-0400
TZOFFSETTO:-0500
DTSTART:20251102T060000
END:STANDARD
END:VTIMEZONE
BEGIN:VEVENT
UID:69eb13c2b2b8a
DTSTART;TZID=America/Toronto:20260322T193000
SEQUENCE:0
TRANSP:TRANSPARENT
DTEND;TZID=America/Toronto:20260322T210000
URL:https://uwaterloo.ca/music/events/orchestrauwaterloo-goes-opera
LOCATION:Knox Presbyterian Church 50 Erb St West Waterloo ON Canada
SUMMARY:The Orchestra@UWaterloo goes to the Opera
CLASS:PUBLIC
DESCRIPTION:Together with the Grand River Opera and choristers provided by 
 the\nUniversity Choir\, the Orchestra@UWaterloo will play a selection of\n
 opera pieces.
DTSTAMP:20260424T065458Z
END:VEVENT
END:VCALENDAR