BEGIN:VCALENDAR
VERSION:2.0
PRODID:-//Drupal iCal API//EN
X-WR-CALNAME:Events items teaser
X-WR-TIMEZONE:America/Toronto
BEGIN:VTIMEZONE
TZID:America/Toronto
X-LIC-LOCATION:America/Toronto
BEGIN:DAYLIGHT
TZNAME:EDT
TZOFFSETFROM:-0500
TZOFFSETTO:-0400
DTSTART:20260308T070000
END:DAYLIGHT
BEGIN:DAYLIGHT
TZNAME:EDT
TZOFFSETFROM:-0500
TZOFFSETTO:-0400
DTSTART:20250309T070000
END:DAYLIGHT
BEGIN:DAYLIGHT
TZNAME:EDT
TZOFFSETFROM:-0500
TZOFFSETTO:-0400
DTSTART:20240310T070000
END:DAYLIGHT
BEGIN:DAYLIGHT
TZNAME:EDT
TZOFFSETFROM:-0500
TZOFFSETTO:-0400
DTSTART:20230312T070000
END:DAYLIGHT
BEGIN:STANDARD
TZNAME:EST
TZOFFSETFROM:-0400
TZOFFSETTO:-0500
DTSTART:20251102T060000
END:STANDARD
BEGIN:STANDARD
TZNAME:EST
TZOFFSETFROM:-0400
TZOFFSETTO:-0500
DTSTART:20241103T060000
END:STANDARD
BEGIN:STANDARD
TZNAME:EST
TZOFFSETFROM:-0400
TZOFFSETTO:-0500
DTSTART:20231105T060000
END:STANDARD
BEGIN:STANDARD
TZNAME:EST
TZOFFSETFROM:-0400
TZOFFSETTO:-0500
DTSTART:20221106T060000
END:STANDARD
END:VTIMEZONE
BEGIN:VEVENT
UID:69ebb677bb559
DTSTART;TZID=America/Toronto:20260422T133000
SEQUENCE:0
TRANSP:TRANSPARENT
DTEND;TZID=America/Toronto:20260422T143000
URL:https://uwaterloo.ca/nanotechnology-engineering/events/lecture-series
LOCATION:DC - William G. Davis Computer Research Centre Room 1302 200 Unive
 rsity Avenue West Waterloo ON N2L 3G1 Canada
SUMMARY:Lecture Series
CLASS:PUBLIC
DESCRIPTION:Porous media form the backbone of electrochemical energy storag
 e and\nconversion technologies\, governing transport\, reaction access\, a
 nd\noverall efficiency in redox flow batteries\, electrolyzers\, and fuel\
 ncells. Despite their central role\, most porous electrodes and\ntransport
  layers have changed little over decades\, relying on\nrandomized architec
 tures that constrain performance\, durability\, and\ncost. Dr. van der Hei
 jden’s research group reimagines porous media\nas engineered components\
 , structures that can be deliberately designed\nrather than inherited. By 
 integrating pore‑scale modeling\, operando\nimaging\, computational opti
 mization\, and advanced manufacturing\, the\ngroup uncovers fundamental st
 ructure–performance relationships and\ndevelops new architectures that r
 educe transport losses. This talk\nhighlights how tailored porous microstr
 uctures can enable more\nefficient\, robust\, and scalable electrochemical
  devices.
DTSTAMP:20260424T182911Z
END:VEVENT
BEGIN:VEVENT
UID:69ebb677becd3
DTSTART;TZID=America/Toronto:20260205T123000
SEQUENCE:0
TRANSP:TRANSPARENT
DTEND;TZID=America/Toronto:20260205T140000
URL:https://uwaterloo.ca/nanotechnology-engineering/events/battery-workforc
 e-challenge-party-0
LOCATION:E5 - Engineering 5 Sedra Design Centre 1st floor 200 University Av
 enue West Waterloo ON N2L 3G1 Canada
SUMMARY:Battery Workforce Challenge Party
CLASS:PUBLIC
DESCRIPTION:PLEASE FIND ATTACHED THE INVITATION WITH OUR NEW DATE\, THURSDA
 Y\, FEB.\n5TH. ALL ARE WELCOME BUT YOU MUST REGISTER TO ATTEND!\n\nEVEN IF
  YOU HAD PREVIOUSLY REGISTERED\, YOU MUST RE-REGISTER\, SO WE\nKNOW HOW MU
 CH DELICIOUS PIZZA WE NEED TO ORDER FOR THE NEW PARTY DATE.\n\nHOPE TO SEE
  YOU THERE!
DTSTAMP:20260424T182911Z
END:VEVENT
BEGIN:VEVENT
UID:69ebb677bfae2
DTSTART;TZID=America/Toronto:20260126T123000
SEQUENCE:0
TRANSP:TRANSPARENT
DTEND;TZID=America/Toronto:20260126T140000
URL:https://uwaterloo.ca/nanotechnology-engineering/events/battery-workforc
 e-challenge-party
LOCATION:E5 - Engineering 5 Sedra Design Centre 1st floor 200 University Av
 enue West Waterloo ON N2L 3G1 Canada
SUMMARY:Battery Workforce Challenge Party
CLASS:PUBLIC
DESCRIPTION:Battery Workforce Challenge Party
DTSTAMP:20260424T182911Z
END:VEVENT
BEGIN:VEVENT
UID:69ebb677c069d
DTSTART;TZID=America/Toronto:20251014T100000
SEQUENCE:0
TRANSP:TRANSPARENT
DTEND;TZID=America/Toronto:20251014T143000
URL:https://uwaterloo.ca/nanotechnology-engineering/events/nano-chem-lab-da
 y
LOCATION:E7 - Engineering 7 200 University Ave West 1st Floor Ideas Clinic 
 Waterloo ON N2L 3G1 Canada
SUMMARY:Nano &amp; Chem Lab Day
CLASS:PUBLIC
DESCRIPTION:BRING LEARNING TO LIFE!\n\nBring your class to campus for Chemi
 cal and Nanotechnology Engineering\nLab Day! Students will try out hands-o
 n activities and see how\nchemical and nanotechnology innovations are powe
 ring breakthroughs in\nsustainability\, energy\, and medicine. It’s a fu
 n\, interactive way to\nspark curiosity and show future engineers what’s
  possible. 
DTSTAMP:20260424T182911Z
END:VEVENT
BEGIN:VEVENT
UID:69ebb677c1238
DTSTART;TZID=America/Toronto:20250922T120000
SEQUENCE:0
TRANSP:TRANSPARENT
DTEND;TZID=America/Toronto:20250922T133000
URL:https://uwaterloo.ca/nanotechnology-engineering/events/call-connect-che
 mical-engineering-nanotechnology-engineering
SUMMARY:A Call to Connect: Chemical Engineering &amp; Nanotechnology Engineerin
 g\nAlumni Roundtables
CLASS:PUBLIC
DESCRIPTION:A Call to Connect: Chemical Engineering &amp; Nanotechnology Engine
 ering\nAlumni Roundtables
DTSTAMP:20260424T182911Z
END:VEVENT
BEGIN:VEVENT
UID:69ebb677c1c2e
DTSTART;TZID=America/Toronto:20250319T130000
SEQUENCE:0
TRANSP:TRANSPARENT
DTEND;TZID=America/Toronto:20250319T170000
URL:https://uwaterloo.ca/nanotechnology-engineering/events/nanotechnology-e
 ngineering-capstone-posters
LOCATION:E7 - Engineering 7 First Floor Atrium 200 University Ave West Wate
 rloo ON N2L 3G1 Canada
SUMMARY:Nanotechnology Engineering Capstone Posters
CLASS:PUBLIC
DESCRIPTION:The NE Capstone poster event is taking place on Wednesday March
  19\,\n2025 from 1pm – 5pm in the main floor atrium of E-7
DTSTAMP:20260424T182911Z
END:VEVENT
BEGIN:VEVENT
UID:69ebb677c2855
DTSTART;TZID=America/Toronto:20250124T153000
SEQUENCE:0
TRANSP:TRANSPARENT
DTEND;TZID=America/Toronto:20250124T173000
URL:https://uwaterloo.ca/nanotechnology-engineering/events/chemical-enginee
 ring-graduate-recruitment-fair
LOCATION:E7 - Engineering 7 200 University Ave West 1st Floor IDEAS Clinic 
 Waterloo ON N2L 3G1 Canada
SUMMARY:Chemical Engineering Graduate Recruitment Fair
CLASS:PUBLIC
DESCRIPTION:See our faculties\, meet faculty and current students! Join us 
 for\nrefreshments!
DTSTAMP:20260424T182911Z
END:VEVENT
BEGIN:VEVENT
UID:69ebb677c3398
DTSTART;TZID=America/Toronto:20240605T140000
SEQUENCE:0
TRANSP:TRANSPARENT
DTEND;TZID=America/Toronto:20240605T170000
URL:https://uwaterloo.ca/nanotechnology-engineering/events/engineering-grad
 uate-studies-fair
LOCATION:E7 - Engineering 7 200 University Ave West 2nd Floor Event Space W
 aterloo ON N2L 3G1 Canada
SUMMARY:Engineering Graduate Studies Fair
CLASS:PUBLIC
DESCRIPTION:Please come out to our Engineering Graduate Studies Fair and le
 arn\nmore about our graduate studies programs! Explore which program is\nr
 ight for you.
DTSTAMP:20260424T182911Z
END:VEVENT
BEGIN:VEVENT
UID:69ebb677c40a8
DTSTART;TZID=America/Toronto:20240309T091500
SEQUENCE:0
TRANSP:TRANSPARENT
DTEND;TZID=America/Toronto:20240309T153000
URL:https://uwaterloo.ca/nanotechnology-engineering/events/waterloo-naontec
 hnology-conference
LOCATION:QNC - Quantum Nano Centre 200 University Avenue West Waterloo ON N
 2L 3G1 Canada
SUMMARY:Waterloo Naontechnology Conference
CLASS:PUBLIC
DESCRIPTION:We are excited to have you embark on a journey to come and expl
 ore how\nthe world has been tackling some of the toughest problems in clim
 ate\nchange. This year's conference is on \"Thinking Small to Store More\"
 \ncovering advancements in renewable energy using nanotechnology. From a\n
 keynote talk on nanomaterials by Geoffrey Ozin\, \"the father of\nnanochem
 istry\"\, an energy storage panel led by some of the world's\nmost highly 
 cited researchers\, a grad-student panel focused on carbon\ncapture\, netw
 orking sessions\, a poster exhibition\, and many more\nspeakers\, there is
  something for everyone! Join us in shaping the\nworld to a greener future
  one step at a time!
DTSTAMP:20260424T182911Z
END:VEVENT
BEGIN:VEVENT
UID:69ebb677c4dd8
DTSTART;TZID=America/Toronto:20231102T143000
SEQUENCE:0
TRANSP:TRANSPARENT
DTEND;TZID=America/Toronto:20231102T153000
URL:https://uwaterloo.ca/nanotechnology-engineering/events/sustainable-futu
 re-perspective-series-circular-economies
LOCATION:E7 - Engineering 7 200 University Ave West Faculty Hall\, 7303/736
 3 Waterloo ON N2L 3G1 Canada
SUMMARY:Sustainable Future Perspective Series | Circular Economies: Electro
 nic\nand Electrochemical Devices
CLASS:PUBLIC
DESCRIPTION:The Department of Chemical Engineering (ChE) and the Waterloo\n
 Institute for Nanotechnology (WIN) are partnering to organize a series\nof
  discourses on technology-based solutions to global challenges\nlinked to 
 UN Sustainable Development Goals. We are pleased to present\nanother disco
 urse in our series: Circular Economies: Electronic and\nElectrochemical De
 vices. The distinguished panel for this event\ncomprises Komal Habib (SEED
 )\, Steven Young(SEED)\, Ting Tsui (ChE)\,\nMichael Fowler (ChE)\, and Asm
 ae Mokrini from the National Research\nCouncil (NRC).
DTSTAMP:20260424T182911Z
END:VEVENT
END:VCALENDAR