BEGIN:VCALENDAR
VERSION:2.0
PRODID:-//Drupal iCal API//EN
X-WR-CALNAME:Events items teaser
X-WR-TIMEZONE:America/Toronto
BEGIN:VTIMEZONE
TZID:America/Toronto
X-LIC-LOCATION:America/Toronto
BEGIN:DAYLIGHT
TZNAME:EDT
TZOFFSETFROM:-0500
TZOFFSETTO:-0400
DTSTART:20220313T070000
END:DAYLIGHT
BEGIN:STANDARD
TZNAME:EST
TZOFFSETFROM:-0400
TZOFFSETTO:-0500
DTSTART:20211107T060000
END:STANDARD
END:VTIMEZONE
BEGIN:VEVENT
UID:69c07999b41c9
DTSTART;TZID=America/Toronto:20220328T103000
SEQUENCE:0
TRANSP:TRANSPARENT
DTEND;TZID=America/Toronto:20220328T120000
URL:https://uwaterloo.ca/open-scholarship/events/eco-virtual-learning-strat
 egy-showcase-part-1
SUMMARY:eCO Virtual Learning Strategy Showcase\, Part 1
CLASS:PUBLIC
DESCRIPTION:The Centre for Extended Learning will be hosting a Virtual Lear
 ning\nStrategy (VLS) Showcase to highlight the Waterloo projects that\neCa
 mpus Ontario
DTSTAMP:20260322T232201Z
END:VEVENT
END:VCALENDAR