BEGIN:VCALENDAR
VERSION:2.0
PRODID:-//Drupal iCal API//EN
X-WR-CALNAME:Events items teaser
X-WR-TIMEZONE:America/Toronto
BEGIN:VTIMEZONE
TZID:America/Toronto
X-LIC-LOCATION:America/Toronto
BEGIN:DAYLIGHT
TZNAME:EDT
TZOFFSETFROM:-0500
TZOFFSETTO:-0400
DTSTART:20220313T070000
END:DAYLIGHT
BEGIN:STANDARD
TZNAME:EST
TZOFFSETFROM:-0400
TZOFFSETTO:-0500
DTSTART:20221106T060000
END:STANDARD
END:VTIMEZONE
BEGIN:VEVENT
UID:69c4e64a2f2f6
DTSTART;TZID=America/Toronto:20230224T071000
SEQUENCE:0
TRANSP:TRANSPARENT
DTEND;TZID=America/Toronto:20230224T071000
URL:https://uwaterloo.ca/open-scholarship/events/open-education-week-2023
SUMMARY:Open Education Week 2023
CLASS:PUBLIC
DESCRIPTION:OPEN EDUCATION WEEK runs March 6 – 10\, 2023. The Open Schola
 rship\nCommittee is planning several events throughout the week to profile
  OE\nprojects at Waterloo\, promote the open community\, and highlight\nsu
 pport that is available for the creation\, adoption\, and adaptation\nof o
 pen educational resources. These events include live presentations\nas wel
 l as _Daily Bulletin_ articles. A schedule of events will be\nposted here:
  Open Education Week 2023\n[https://uwaterloo.ca/open-scholarship/open-edu
 cational-resources/open-education-week-2023].
DTSTAMP:20260326T075450Z
END:VEVENT
END:VCALENDAR