BEGIN:VCALENDAR
VERSION:2.0
PRODID:-//Drupal iCal API//EN
X-WR-CALNAME:Events items teaser
X-WR-TIMEZONE:America/Toronto
BEGIN:VTIMEZONE
TZID:America/Toronto
X-LIC-LOCATION:America/Toronto
BEGIN:DAYLIGHT
TZNAME:EDT
TZOFFSETFROM:-0500
TZOFFSETTO:-0400
DTSTART:20230312T070000
END:DAYLIGHT
BEGIN:STANDARD
TZNAME:EST
TZOFFSETFROM:-0400
TZOFFSETTO:-0500
DTSTART:20221106T060000
END:STANDARD
END:VTIMEZONE
BEGIN:VEVENT
UID:69eca1e7644d0
DTSTART;TZID=America/Toronto:20230919T120000
SEQUENCE:0
TRANSP:TRANSPARENT
DTEND;TZID=America/Toronto:20230919T140000
URL:https://uwaterloo.ca/optometry-vision-science/events/seeing-beyond-2020
 -campaign-cornerstone-event
LOCATION:OPT - Optometry Building 200 Columbia Street West Waterloo ON N2L 
 3G1 Canada
SUMMARY:Seeing Beyond 20/20 campaign cornerstone event
CLASS:PUBLIC
DESCRIPTION:Join us for a historic event where we will celebrate turning th
 e\ncorner on our Seeing Beyond 20/20 Campaign\, and the Waterloo Eye\nInst
 itute becoming a reality thanks to our alumni and donors.\n\nThe Waterloo 
 Eye Institute (WEI) is set to be a national centre of\nexcellence for eye 
 and vision education\, patient care and research.\nWith 67\,000 square fee
 t of new and renovated space\, the WEI will push\nthe boundaries of eye an
 d vision care\, clinical education and research\nto benefit patients in Wa
 terloo region and across the country.
DTSTAMP:20260425T111343Z
END:VEVENT
END:VCALENDAR