BEGIN:VCALENDAR
VERSION:2.0
PRODID:-//Drupal iCal API//EN
X-WR-CALNAME:Events items teaser
X-WR-TIMEZONE:America/Toronto
BEGIN:VTIMEZONE
TZID:America/Toronto
X-LIC-LOCATION:America/Toronto
BEGIN:DAYLIGHT
TZNAME:EDT
TZOFFSETFROM:-0500
TZOFFSETTO:-0400
DTSTART:20240310T070000
END:DAYLIGHT
BEGIN:STANDARD
TZNAME:EST
TZOFFSETFROM:-0400
TZOFFSETTO:-0500
DTSTART:20231105T060000
END:STANDARD
END:VTIMEZONE
BEGIN:VEVENT
UID:69e621c1e33ed
DTSTART;VALUE=DATE:20241021
SEQUENCE:0
TRANSP:TRANSPARENT
DTEND;VALUE=DATE:20241031
URL:https://uwaterloo.ca/pharmacy/events/school-pharmacy-silent-auction-sup
 port-uw-united-way
SUMMARY:School of Pharmacy Silent Auction in Support of the UW United Way\n
 Campaign
CLASS:PUBLIC
DESCRIPTION:The School of Pharmacy is excited to host its first-ever online
  silent\nauction in support of the University of Waterloo United Way Campa
 ign!\nFrom October 21 to October 30\, you can bid on amazing prizes donate
 d\nby local artisans\, artists\, businesses\, and more.\n\nSee the full ev
 ent details for the growing list of donors!
X-MICROSOFT-CDO-ALLDAYEVENT:TRUE
DTSTAMP:20260420T125321Z
END:VEVENT
END:VCALENDAR