BEGIN:VCALENDAR
VERSION:2.0
PRODID:-//Drupal iCal API//EN
X-WR-CALNAME:Events items teaser
X-WR-TIMEZONE:America/Toronto
BEGIN:VTIMEZONE
TZID:America/Toronto
X-LIC-LOCATION:America/Toronto
BEGIN:DAYLIGHT
TZNAME:EDT
TZOFFSETFROM:-0500
TZOFFSETTO:-0400
DTSTART:20250309T070000
END:DAYLIGHT
BEGIN:STANDARD
TZNAME:EST
TZOFFSETFROM:-0400
TZOFFSETTO:-0500
DTSTART:20251102T060000
END:STANDARD
END:VTIMEZONE
BEGIN:VEVENT
UID:69e91225cf812
DTSTART;TZID=America/Toronto:20251113T190000
SEQUENCE:0
TRANSP:TRANSPARENT
DTEND;TZID=America/Toronto:20251113T203000
URL:https://uwaterloo.ca/pharmacy/events/unpacking-obesity-myths-medicine-a
 nd-motivation
LOCATION:PHR - School of Pharmacy 10 Victoria Street South Kitchener ON N2G
  2B2 Canada
SUMMARY:Unpacking Obesity: Myths\, Medicine and Motivation
CLASS:PUBLIC
DESCRIPTION:Join us in-person at the School of Pharmacy on NOVEMBER 13\,\n
 7-8:30PM for a panel discussion that will aim to inform\, inspire\, and\n
 shift the narrative around obesity. Our expert panelists representing\nmed
 icine\, nutrition and pharmacy will dispel common myths\, explore\ncurrent
  treatments\, and discuss how motivation and mindset play a role\nin care.
DTSTAMP:20260422T182333Z
END:VEVENT
END:VCALENDAR